BEGIN:VCALENDAR
VERSION:2.0
PRODID:-//De planes por la comarca - ECPv6.15.20//NONSGML v1.0//EN
CALSCALE:GREGORIAN
METHOD:PUBLISH
X-ORIGINAL-URL:https://deplanesporlacomarca.com
X-WR-CALDESC:Eventos para De planes por la comarca
REFRESH-INTERVAL;VALUE=DURATION:PT1H
X-Robots-Tag:noindex
X-PUBLISHED-TTL:PT1H
BEGIN:VTIMEZONE
TZID:Europe/Madrid
BEGIN:DAYLIGHT
TZOFFSETFROM:+0100
TZOFFSETTO:+0200
TZNAME:CEST
DTSTART:20250330T010000
END:DAYLIGHT
BEGIN:STANDARD
TZOFFSETFROM:+0200
TZOFFSETTO:+0100
TZNAME:CET
DTSTART:20251026T010000
END:STANDARD
BEGIN:DAYLIGHT
TZOFFSETFROM:+0100
TZOFFSETTO:+0200
TZNAME:CEST
DTSTART:20260329T010000
END:DAYLIGHT
BEGIN:STANDARD
TZOFFSETFROM:+0200
TZOFFSETTO:+0100
TZNAME:CET
DTSTART:20261025T010000
END:STANDARD
BEGIN:DAYLIGHT
TZOFFSETFROM:+0100
TZOFFSETTO:+0200
TZNAME:CEST
DTSTART:20270328T010000
END:DAYLIGHT
BEGIN:STANDARD
TZOFFSETFROM:+0200
TZOFFSETTO:+0100
TZNAME:CET
DTSTART:20271031T010000
END:STANDARD
END:VTIMEZONE
BEGIN:VEVENT
DTSTART;TZID=Europe/Madrid:20260425T120000
DTEND;TZID=Europe/Madrid:20260425T200000
DTSTAMP:20260425T162355
CREATED:20260423T122055Z
LAST-MODIFIED:20260423T122058Z
UID:10042535-1777118400-1777147200@deplanesporlacomarca.com
SUMMARY:PASA EL DÍA ENTERO EN ESTEBENEA (IRUN)
DESCRIPTION:Desde el Restaurante Estebenea de Irun han preparado una jornada completa pensada para dinamizar la vida social y gastronómica de la comarca del Bidasoa. \n\n\n\n \n\n\n\nBajo el concepto “Pasa el día entero en Estebenea”\, han diseñado una experiencia continua que combina música\, gastronomía y ambiente local: \n\n\n\n \n\n\n\nEste es el programa previsto de este plan: \n\n\n\n– 12.00 horas: Vermuteo. DJ Azzido Domingo (A.K.A Ben Hamed) «Eclectik vinyl DJ set». \n\n\n\n \n\n\n\n– 12.00 horas: Stand de VERSUM cervezas artesanales. \n\n\n\nVERSUM es una cerveza de Gipuzkoa (Irun) creada por Mikel Llucia tras más de 20 años de experiencia en el sector. Es una cerveza local con alma musical\, que nace con una idea clara: ofrecer cervezas de calidad sin gluten y sin barreras\, pensadas para ampliar el público sin complicar la oferta. Actualmente cuenta con tres estilos: Saison (rubia)\, Amber Ale (tostada) e IPA\, todos ellos sin gluten. \n\n\n\n \n\n\n\nVERSUM combina producto\, cultura y experiencia: cada cerveza incluye un poema en la etiqueta y una canción asociada accesible mediante un código QR. \n\n\n\n \n\n\n\n– 17.00 horas: Concierto (Live Music). Azeituna con Huesos (elektro-jazz-funk). \n\n\n\n \n\n\n\n– 18.00 horas: Cortador de jamón. Unai Arroyo Anso. Plato de jamón + picos: 4 Euros. \n\n\n\n \n\n\n\nEl objetivo es ofrecer un formato diferente en Irún: una propuesta continua desde el mediodía hasta la tarde\, abierta a todos los públicos y con especial foco en el producto\, la música en directo y la cultura local.
URL:https://deplanesporlacomarca.com/agenda-evento/pasa-el-dia-entero-en-estebenea-irun/
LOCATION:Restaurante Estebenea\, Barrio Olaberria\, 51\, Irun\, Gipuzkoa\, España
ATTACH;FMTTYPE=image/jpeg:https://deplanesporlacomarca.com/wp-content/uploads/2026/04/pasa_el_dia_entero_en_estebenea_25_abril_2026_restaurante_estebenea_irun.jpg
GEO:43.3231182;-1.79073
X-APPLE-STRUCTURED-LOCATION;VALUE=URI;X-ADDRESS=Restaurante Estebenea Barrio Olaberria 51 Irun Gipuzkoa España;X-APPLE-RADIUS=500;X-TITLE=Barrio Olaberria\, 51:geo:-1.79073,43.3231182
END:VEVENT
END:VCALENDAR