BEGIN:VCALENDAR
VERSION:2.0
PRODID:-//De planes por la comarca - ECPv6.15.20//NONSGML v1.0//EN
CALSCALE:GREGORIAN
METHOD:PUBLISH
X-WR-CALNAME:De planes por la comarca
X-ORIGINAL-URL:https://deplanesporlacomarca.com
X-WR-CALDESC:Eventos para De planes por la comarca
REFRESH-INTERVAL;VALUE=DURATION:PT1H
X-Robots-Tag:noindex
X-PUBLISHED-TTL:PT1H
BEGIN:VTIMEZONE
TZID:Europe/Madrid
BEGIN:DAYLIGHT
TZOFFSETFROM:+0100
TZOFFSETTO:+0200
TZNAME:CEST
DTSTART:20250330T010000
END:DAYLIGHT
BEGIN:STANDARD
TZOFFSETFROM:+0200
TZOFFSETTO:+0100
TZNAME:CET
DTSTART:20251026T010000
END:STANDARD
BEGIN:DAYLIGHT
TZOFFSETFROM:+0100
TZOFFSETTO:+0200
TZNAME:CEST
DTSTART:20260329T010000
END:DAYLIGHT
BEGIN:STANDARD
TZOFFSETFROM:+0200
TZOFFSETTO:+0100
TZNAME:CET
DTSTART:20261025T010000
END:STANDARD
BEGIN:DAYLIGHT
TZOFFSETFROM:+0100
TZOFFSETTO:+0200
TZNAME:CEST
DTSTART:20270328T010000
END:DAYLIGHT
BEGIN:STANDARD
TZOFFSETFROM:+0200
TZOFFSETTO:+0100
TZNAME:CET
DTSTART:20271031T010000
END:STANDARD
END:VTIMEZONE
BEGIN:VEVENT
DTSTART;TZID=Europe/Madrid:20260421T090000
DTEND;TZID=Europe/Madrid:20260421T190000
DTSTAMP:20260420T042744
CREATED:20250430T062947Z
LAST-MODIFIED:20260318T080134Z
UID:10042281-1776762000-1776798000@deplanesporlacomarca.com
SUMMARY:RENDEZ VOUZ DU PALMIER (HENDAYE)
DESCRIPTION:Como cada martes hasta el 15 de Septiembre\, tradicional «Marché du Palmier» en Hendaye desde las 09.00 hasta las 19.00 horas. \n\n\n\n \n\n\n\nSumérgete en un festival de sabores y creatividad con artesanos\, creadores\, especialidades locales\,… Este mercado artesanal y gastronómico le invita a un viaje culinario en el corazón de Hendaye-Plage. \n\n\n\n \n\n\n\nExplora un sinfín de puestos donde apasionados artesanos y productores locales te revelan sus tesoros: quesos de granja\, embutidos\, mieles\,… \n\n\n\n \n\n\n\n \n\n\n\n.
URL:https://deplanesporlacomarca.com/agenda-evento/rendez-vouz-du-palmier-hendaye/2026-04-21/
LOCATION:Rond Point du Palmier\, Boulevard du Général Leclerc\, Hendaye\, Francia
GEO:43.3678805;-1.7706428
X-APPLE-STRUCTURED-LOCATION;VALUE=URI;X-ADDRESS=Rond Point du Palmier Boulevard du Général Leclerc Hendaye Francia;X-APPLE-RADIUS=500;X-TITLE=Boulevard du Général Leclerc:geo:-1.7706428,43.3678805
END:VEVENT
BEGIN:VEVENT
DTSTART;TZID=Europe/Madrid:20260428T090000
DTEND;TZID=Europe/Madrid:20260428T190000
DTSTAMP:20260420T042744
CREATED:20250430T062947Z
LAST-MODIFIED:20260318T080134Z
UID:10042282-1777366800-1777402800@deplanesporlacomarca.com
SUMMARY:RENDEZ VOUZ DU PALMIER (HENDAYE)
DESCRIPTION:Como cada martes hasta el 15 de Septiembre\, tradicional «Marché du Palmier» en Hendaye desde las 09.00 hasta las 19.00 horas. \n\n\n\n \n\n\n\nSumérgete en un festival de sabores y creatividad con artesanos\, creadores\, especialidades locales\,… Este mercado artesanal y gastronómico le invita a un viaje culinario en el corazón de Hendaye-Plage. \n\n\n\n \n\n\n\nExplora un sinfín de puestos donde apasionados artesanos y productores locales te revelan sus tesoros: quesos de granja\, embutidos\, mieles\,… \n\n\n\n \n\n\n\n \n\n\n\n.
URL:https://deplanesporlacomarca.com/agenda-evento/rendez-vouz-du-palmier-hendaye/2026-04-28/
LOCATION:Rond Point du Palmier\, Boulevard du Général Leclerc\, Hendaye\, Francia
GEO:43.3678805;-1.7706428
X-APPLE-STRUCTURED-LOCATION;VALUE=URI;X-ADDRESS=Rond Point du Palmier Boulevard du Général Leclerc Hendaye Francia;X-APPLE-RADIUS=500;X-TITLE=Boulevard du Général Leclerc:geo:-1.7706428,43.3678805
END:VEVENT
END:VCALENDAR