BEGIN:VCALENDAR
VERSION:2.0
PRODID:-//De planes por la comarca - ECPv6.15.20//NONSGML v1.0//EN
CALSCALE:GREGORIAN
METHOD:PUBLISH
X-WR-CALNAME:De planes por la comarca
X-ORIGINAL-URL:https://deplanesporlacomarca.com
X-WR-CALDESC:Eventos para De planes por la comarca
REFRESH-INTERVAL;VALUE=DURATION:PT1H
X-Robots-Tag:noindex
X-PUBLISHED-TTL:PT1H
BEGIN:VTIMEZONE
TZID:Europe/Madrid
BEGIN:DAYLIGHT
TZOFFSETFROM:+0100
TZOFFSETTO:+0200
TZNAME:CEST
DTSTART:20240331T010000
END:DAYLIGHT
BEGIN:STANDARD
TZOFFSETFROM:+0200
TZOFFSETTO:+0100
TZNAME:CET
DTSTART:20241027T010000
END:STANDARD
BEGIN:DAYLIGHT
TZOFFSETFROM:+0100
TZOFFSETTO:+0200
TZNAME:CEST
DTSTART:20250330T010000
END:DAYLIGHT
BEGIN:STANDARD
TZOFFSETFROM:+0200
TZOFFSETTO:+0100
TZNAME:CET
DTSTART:20251026T010000
END:STANDARD
BEGIN:DAYLIGHT
TZOFFSETFROM:+0100
TZOFFSETTO:+0200
TZNAME:CEST
DTSTART:20260329T010000
END:DAYLIGHT
BEGIN:STANDARD
TZOFFSETFROM:+0200
TZOFFSETTO:+0100
TZNAME:CET
DTSTART:20261025T010000
END:STANDARD
END:VTIMEZONE
BEGIN:VEVENT
DTSTART;TZID=Europe/Madrid:20250722T090000
DTEND;TZID=Europe/Madrid:20250722T190000
DTSTAMP:20260420T073633
CREATED:20250430T062947Z
LAST-MODIFIED:20260318T080134Z
UID:10039414-1753174800-1753210800@deplanesporlacomarca.com
SUMMARY:RENDEZ VOUZ DU PALMIER (HENDAYE)
DESCRIPTION:Como cada martes hasta el 15 de Septiembre\, tradicional «Marché du Palmier» en Hendaye desde las 09.00 hasta las 19.00 horas. \n\n\n\n \n\n\n\nSumérgete en un festival de sabores y creatividad con artesanos\, creadores\, especialidades locales\,… Este mercado artesanal y gastronómico le invita a un viaje culinario en el corazón de Hendaye-Plage. \n\n\n\n \n\n\n\nExplora un sinfín de puestos donde apasionados artesanos y productores locales te revelan sus tesoros: quesos de granja\, embutidos\, mieles\,… \n\n\n\n \n\n\n\n \n\n\n\n.
URL:https://deplanesporlacomarca.com/agenda-evento/rendez-vouz-du-palmier-hendaye/2025-07-22/
LOCATION:Rond Point du Palmier\, Boulevard du Général Leclerc\, Hendaye\, Francia
GEO:43.3678805;-1.7706428
X-APPLE-STRUCTURED-LOCATION;VALUE=URI;X-ADDRESS=Rond Point du Palmier Boulevard du Général Leclerc Hendaye Francia;X-APPLE-RADIUS=500;X-TITLE=Boulevard du Général Leclerc:geo:-1.7706428,43.3678805
END:VEVENT
BEGIN:VEVENT
DTSTART;TZID=Europe/Madrid:20250715T090000
DTEND;TZID=Europe/Madrid:20250715T190000
DTSTAMP:20260420T073633
CREATED:20250430T062947Z
LAST-MODIFIED:20260318T080134Z
UID:10039413-1752570000-1752606000@deplanesporlacomarca.com
SUMMARY:RENDEZ VOUZ DU PALMIER (HENDAYE)
DESCRIPTION:Como cada martes hasta el 15 de Septiembre\, tradicional «Marché du Palmier» en Hendaye desde las 09.00 hasta las 19.00 horas. \n\n\n\n \n\n\n\nSumérgete en un festival de sabores y creatividad con artesanos\, creadores\, especialidades locales\,… Este mercado artesanal y gastronómico le invita a un viaje culinario en el corazón de Hendaye-Plage. \n\n\n\n \n\n\n\nExplora un sinfín de puestos donde apasionados artesanos y productores locales te revelan sus tesoros: quesos de granja\, embutidos\, mieles\,… \n\n\n\n \n\n\n\n \n\n\n\n.
URL:https://deplanesporlacomarca.com/agenda-evento/rendez-vouz-du-palmier-hendaye/2025-07-15/
LOCATION:Rond Point du Palmier\, Boulevard du Général Leclerc\, Hendaye\, Francia
GEO:43.3678805;-1.7706428
X-APPLE-STRUCTURED-LOCATION;VALUE=URI;X-ADDRESS=Rond Point du Palmier Boulevard du Général Leclerc Hendaye Francia;X-APPLE-RADIUS=500;X-TITLE=Boulevard du Général Leclerc:geo:-1.7706428,43.3678805
END:VEVENT
BEGIN:VEVENT
DTSTART;TZID=Europe/Madrid:20250708T090000
DTEND;TZID=Europe/Madrid:20250708T190000
DTSTAMP:20260420T073633
CREATED:20250430T062947Z
LAST-MODIFIED:20260318T080134Z
UID:10039412-1751965200-1752001200@deplanesporlacomarca.com
SUMMARY:RENDEZ VOUZ DU PALMIER (HENDAYE)
DESCRIPTION:Como cada martes hasta el 15 de Septiembre\, tradicional «Marché du Palmier» en Hendaye desde las 09.00 hasta las 19.00 horas. \n\n\n\n \n\n\n\nSumérgete en un festival de sabores y creatividad con artesanos\, creadores\, especialidades locales\,… Este mercado artesanal y gastronómico le invita a un viaje culinario en el corazón de Hendaye-Plage. \n\n\n\n \n\n\n\nExplora un sinfín de puestos donde apasionados artesanos y productores locales te revelan sus tesoros: quesos de granja\, embutidos\, mieles\,… \n\n\n\n \n\n\n\n \n\n\n\n.
URL:https://deplanesporlacomarca.com/agenda-evento/rendez-vouz-du-palmier-hendaye/2025-07-08/
LOCATION:Rond Point du Palmier\, Boulevard du Général Leclerc\, Hendaye\, Francia
GEO:43.3678805;-1.7706428
X-APPLE-STRUCTURED-LOCATION;VALUE=URI;X-ADDRESS=Rond Point du Palmier Boulevard du Général Leclerc Hendaye Francia;X-APPLE-RADIUS=500;X-TITLE=Boulevard du Général Leclerc:geo:-1.7706428,43.3678805
END:VEVENT
BEGIN:VEVENT
DTSTART;TZID=Europe/Madrid:20250701T090000
DTEND;TZID=Europe/Madrid:20250701T190000
DTSTAMP:20260420T073633
CREATED:20250430T062947Z
LAST-MODIFIED:20260318T080134Z
UID:10039411-1751360400-1751396400@deplanesporlacomarca.com
SUMMARY:RENDEZ VOUZ DU PALMIER (HENDAYE)
DESCRIPTION:Como cada martes hasta el 15 de Septiembre\, tradicional «Marché du Palmier» en Hendaye desde las 09.00 hasta las 19.00 horas. \n\n\n\n \n\n\n\nSumérgete en un festival de sabores y creatividad con artesanos\, creadores\, especialidades locales\,… Este mercado artesanal y gastronómico le invita a un viaje culinario en el corazón de Hendaye-Plage. \n\n\n\n \n\n\n\nExplora un sinfín de puestos donde apasionados artesanos y productores locales te revelan sus tesoros: quesos de granja\, embutidos\, mieles\,… \n\n\n\n \n\n\n\n \n\n\n\n.
URL:https://deplanesporlacomarca.com/agenda-evento/rendez-vouz-du-palmier-hendaye/2025-07-01/
LOCATION:Rond Point du Palmier\, Boulevard du Général Leclerc\, Hendaye\, Francia
GEO:43.3678805;-1.7706428
X-APPLE-STRUCTURED-LOCATION;VALUE=URI;X-ADDRESS=Rond Point du Palmier Boulevard du Général Leclerc Hendaye Francia;X-APPLE-RADIUS=500;X-TITLE=Boulevard du Général Leclerc:geo:-1.7706428,43.3678805
END:VEVENT
BEGIN:VEVENT
DTSTART;TZID=Europe/Madrid:20250624T090000
DTEND;TZID=Europe/Madrid:20250624T190000
DTSTAMP:20260420T073633
CREATED:20250430T062947Z
LAST-MODIFIED:20260318T080134Z
UID:10039410-1750755600-1750791600@deplanesporlacomarca.com
SUMMARY:RENDEZ VOUZ DU PALMIER (HENDAYE)
DESCRIPTION:Como cada martes hasta el 15 de Septiembre\, tradicional «Marché du Palmier» en Hendaye desde las 09.00 hasta las 19.00 horas. \n\n\n\n \n\n\n\nSumérgete en un festival de sabores y creatividad con artesanos\, creadores\, especialidades locales\,… Este mercado artesanal y gastronómico le invita a un viaje culinario en el corazón de Hendaye-Plage. \n\n\n\n \n\n\n\nExplora un sinfín de puestos donde apasionados artesanos y productores locales te revelan sus tesoros: quesos de granja\, embutidos\, mieles\,… \n\n\n\n \n\n\n\n \n\n\n\n.
URL:https://deplanesporlacomarca.com/agenda-evento/rendez-vouz-du-palmier-hendaye/2025-06-24/
LOCATION:Rond Point du Palmier\, Boulevard du Général Leclerc\, Hendaye\, Francia
GEO:43.3678805;-1.7706428
X-APPLE-STRUCTURED-LOCATION;VALUE=URI;X-ADDRESS=Rond Point du Palmier Boulevard du Général Leclerc Hendaye Francia;X-APPLE-RADIUS=500;X-TITLE=Boulevard du Général Leclerc:geo:-1.7706428,43.3678805
END:VEVENT
BEGIN:VEVENT
DTSTART;TZID=Europe/Madrid:20250617T090000
DTEND;TZID=Europe/Madrid:20250617T190000
DTSTAMP:20260420T073633
CREATED:20250430T062947Z
LAST-MODIFIED:20260318T080134Z
UID:10039409-1750150800-1750186800@deplanesporlacomarca.com
SUMMARY:RENDEZ VOUZ DU PALMIER (HENDAYE)
DESCRIPTION:Como cada martes hasta el 15 de Septiembre\, tradicional «Marché du Palmier» en Hendaye desde las 09.00 hasta las 19.00 horas. \n\n\n\n \n\n\n\nSumérgete en un festival de sabores y creatividad con artesanos\, creadores\, especialidades locales\,… Este mercado artesanal y gastronómico le invita a un viaje culinario en el corazón de Hendaye-Plage. \n\n\n\n \n\n\n\nExplora un sinfín de puestos donde apasionados artesanos y productores locales te revelan sus tesoros: quesos de granja\, embutidos\, mieles\,… \n\n\n\n \n\n\n\n \n\n\n\n.
URL:https://deplanesporlacomarca.com/agenda-evento/rendez-vouz-du-palmier-hendaye/2025-06-17/
LOCATION:Rond Point du Palmier\, Boulevard du Général Leclerc\, Hendaye\, Francia
GEO:43.3678805;-1.7706428
X-APPLE-STRUCTURED-LOCATION;VALUE=URI;X-ADDRESS=Rond Point du Palmier Boulevard du Général Leclerc Hendaye Francia;X-APPLE-RADIUS=500;X-TITLE=Boulevard du Général Leclerc:geo:-1.7706428,43.3678805
END:VEVENT
BEGIN:VEVENT
DTSTART;TZID=Europe/Madrid:20250610T090000
DTEND;TZID=Europe/Madrid:20250610T190000
DTSTAMP:20260420T073633
CREATED:20250430T062947Z
LAST-MODIFIED:20260318T080134Z
UID:10039408-1749546000-1749582000@deplanesporlacomarca.com
SUMMARY:RENDEZ VOUZ DU PALMIER (HENDAYE)
DESCRIPTION:Como cada martes hasta el 15 de Septiembre\, tradicional «Marché du Palmier» en Hendaye desde las 09.00 hasta las 19.00 horas. \n\n\n\n \n\n\n\nSumérgete en un festival de sabores y creatividad con artesanos\, creadores\, especialidades locales\,… Este mercado artesanal y gastronómico le invita a un viaje culinario en el corazón de Hendaye-Plage. \n\n\n\n \n\n\n\nExplora un sinfín de puestos donde apasionados artesanos y productores locales te revelan sus tesoros: quesos de granja\, embutidos\, mieles\,… \n\n\n\n \n\n\n\n \n\n\n\n.
URL:https://deplanesporlacomarca.com/agenda-evento/rendez-vouz-du-palmier-hendaye/2025-06-10/
LOCATION:Rond Point du Palmier\, Boulevard du Général Leclerc\, Hendaye\, Francia
GEO:43.3678805;-1.7706428
X-APPLE-STRUCTURED-LOCATION;VALUE=URI;X-ADDRESS=Rond Point du Palmier Boulevard du Général Leclerc Hendaye Francia;X-APPLE-RADIUS=500;X-TITLE=Boulevard du Général Leclerc:geo:-1.7706428,43.3678805
END:VEVENT
BEGIN:VEVENT
DTSTART;TZID=Europe/Madrid:20250603T090000
DTEND;TZID=Europe/Madrid:20250603T190000
DTSTAMP:20260420T073633
CREATED:20250430T062947Z
LAST-MODIFIED:20260318T080134Z
UID:10039407-1748941200-1748977200@deplanesporlacomarca.com
SUMMARY:RENDEZ VOUZ DU PALMIER (HENDAYE)
DESCRIPTION:Como cada martes hasta el 15 de Septiembre\, tradicional «Marché du Palmier» en Hendaye desde las 09.00 hasta las 19.00 horas. \n\n\n\n \n\n\n\nSumérgete en un festival de sabores y creatividad con artesanos\, creadores\, especialidades locales\,… Este mercado artesanal y gastronómico le invita a un viaje culinario en el corazón de Hendaye-Plage. \n\n\n\n \n\n\n\nExplora un sinfín de puestos donde apasionados artesanos y productores locales te revelan sus tesoros: quesos de granja\, embutidos\, mieles\,… \n\n\n\n \n\n\n\n \n\n\n\n.
URL:https://deplanesporlacomarca.com/agenda-evento/rendez-vouz-du-palmier-hendaye/2025-06-03/
LOCATION:Rond Point du Palmier\, Boulevard du Général Leclerc\, Hendaye\, Francia
GEO:43.3678805;-1.7706428
X-APPLE-STRUCTURED-LOCATION;VALUE=URI;X-ADDRESS=Rond Point du Palmier Boulevard du Général Leclerc Hendaye Francia;X-APPLE-RADIUS=500;X-TITLE=Boulevard du Général Leclerc:geo:-1.7706428,43.3678805
END:VEVENT
BEGIN:VEVENT
DTSTART;TZID=Europe/Madrid:20250527T090000
DTEND;TZID=Europe/Madrid:20250527T190000
DTSTAMP:20260420T073633
CREATED:20250430T062947Z
LAST-MODIFIED:20260318T080134Z
UID:10039406-1748336400-1748372400@deplanesporlacomarca.com
SUMMARY:RENDEZ VOUZ DU PALMIER (HENDAYE)
DESCRIPTION:Como cada martes hasta el 15 de Septiembre\, tradicional «Marché du Palmier» en Hendaye desde las 09.00 hasta las 19.00 horas. \n\n\n\n \n\n\n\nSumérgete en un festival de sabores y creatividad con artesanos\, creadores\, especialidades locales\,… Este mercado artesanal y gastronómico le invita a un viaje culinario en el corazón de Hendaye-Plage. \n\n\n\n \n\n\n\nExplora un sinfín de puestos donde apasionados artesanos y productores locales te revelan sus tesoros: quesos de granja\, embutidos\, mieles\,… \n\n\n\n \n\n\n\n \n\n\n\n.
URL:https://deplanesporlacomarca.com/agenda-evento/rendez-vouz-du-palmier-hendaye/2025-05-27/
LOCATION:Rond Point du Palmier\, Boulevard du Général Leclerc\, Hendaye\, Francia
GEO:43.3678805;-1.7706428
X-APPLE-STRUCTURED-LOCATION;VALUE=URI;X-ADDRESS=Rond Point du Palmier Boulevard du Général Leclerc Hendaye Francia;X-APPLE-RADIUS=500;X-TITLE=Boulevard du Général Leclerc:geo:-1.7706428,43.3678805
END:VEVENT
BEGIN:VEVENT
DTSTART;TZID=Europe/Madrid:20250520T090000
DTEND;TZID=Europe/Madrid:20250520T190000
DTSTAMP:20260420T073633
CREATED:20250430T062947Z
LAST-MODIFIED:20260318T080134Z
UID:10039405-1747731600-1747767600@deplanesporlacomarca.com
SUMMARY:RENDEZ VOUZ DU PALMIER (HENDAYE)
DESCRIPTION:Como cada martes hasta el 15 de Septiembre\, tradicional «Marché du Palmier» en Hendaye desde las 09.00 hasta las 19.00 horas. \n\n\n\n \n\n\n\nSumérgete en un festival de sabores y creatividad con artesanos\, creadores\, especialidades locales\,… Este mercado artesanal y gastronómico le invita a un viaje culinario en el corazón de Hendaye-Plage. \n\n\n\n \n\n\n\nExplora un sinfín de puestos donde apasionados artesanos y productores locales te revelan sus tesoros: quesos de granja\, embutidos\, mieles\,… \n\n\n\n \n\n\n\n \n\n\n\n.
URL:https://deplanesporlacomarca.com/agenda-evento/rendez-vouz-du-palmier-hendaye/2025-05-20/
LOCATION:Rond Point du Palmier\, Boulevard du Général Leclerc\, Hendaye\, Francia
GEO:43.3678805;-1.7706428
X-APPLE-STRUCTURED-LOCATION;VALUE=URI;X-ADDRESS=Rond Point du Palmier Boulevard du Général Leclerc Hendaye Francia;X-APPLE-RADIUS=500;X-TITLE=Boulevard du Général Leclerc:geo:-1.7706428,43.3678805
END:VEVENT
BEGIN:VEVENT
DTSTART;TZID=Europe/Madrid:20250513T090000
DTEND;TZID=Europe/Madrid:20250513T190000
DTSTAMP:20260420T073633
CREATED:20250430T062947Z
LAST-MODIFIED:20260318T080134Z
UID:10039404-1747126800-1747162800@deplanesporlacomarca.com
SUMMARY:RENDEZ VOUZ DU PALMIER (HENDAYE)
DESCRIPTION:Como cada martes hasta el 15 de Septiembre\, tradicional «Marché du Palmier» en Hendaye desde las 09.00 hasta las 19.00 horas. \n\n\n\n \n\n\n\nSumérgete en un festival de sabores y creatividad con artesanos\, creadores\, especialidades locales\,… Este mercado artesanal y gastronómico le invita a un viaje culinario en el corazón de Hendaye-Plage. \n\n\n\n \n\n\n\nExplora un sinfín de puestos donde apasionados artesanos y productores locales te revelan sus tesoros: quesos de granja\, embutidos\, mieles\,… \n\n\n\n \n\n\n\n \n\n\n\n.
URL:https://deplanesporlacomarca.com/agenda-evento/rendez-vouz-du-palmier-hendaye/2025-05-13/
LOCATION:Rond Point du Palmier\, Boulevard du Général Leclerc\, Hendaye\, Francia
GEO:43.3678805;-1.7706428
X-APPLE-STRUCTURED-LOCATION;VALUE=URI;X-ADDRESS=Rond Point du Palmier Boulevard du Général Leclerc Hendaye Francia;X-APPLE-RADIUS=500;X-TITLE=Boulevard du Général Leclerc:geo:-1.7706428,43.3678805
END:VEVENT
BEGIN:VEVENT
DTSTART;TZID=Europe/Madrid:20250506T090000
DTEND;TZID=Europe/Madrid:20250506T190000
DTSTAMP:20260420T073633
CREATED:20250430T062947Z
LAST-MODIFIED:20260318T080134Z
UID:10039403-1746522000-1746558000@deplanesporlacomarca.com
SUMMARY:RENDEZ VOUZ DU PALMIER (HENDAYE)
DESCRIPTION:Como cada martes hasta el 15 de Septiembre\, tradicional «Marché du Palmier» en Hendaye desde las 09.00 hasta las 19.00 horas. \n\n\n\n \n\n\n\nSumérgete en un festival de sabores y creatividad con artesanos\, creadores\, especialidades locales\,… Este mercado artesanal y gastronómico le invita a un viaje culinario en el corazón de Hendaye-Plage. \n\n\n\n \n\n\n\nExplora un sinfín de puestos donde apasionados artesanos y productores locales te revelan sus tesoros: quesos de granja\, embutidos\, mieles\,… \n\n\n\n \n\n\n\n \n\n\n\n.
URL:https://deplanesporlacomarca.com/agenda-evento/rendez-vouz-du-palmier-hendaye/2025-05-06/
LOCATION:Rond Point du Palmier\, Boulevard du Général Leclerc\, Hendaye\, Francia
GEO:43.3678805;-1.7706428
X-APPLE-STRUCTURED-LOCATION;VALUE=URI;X-ADDRESS=Rond Point du Palmier Boulevard du Général Leclerc Hendaye Francia;X-APPLE-RADIUS=500;X-TITLE=Boulevard du Général Leclerc:geo:-1.7706428,43.3678805
END:VEVENT
END:VCALENDAR