BEGIN:VCALENDAR
VERSION:2.0
PRODID:-//De planes por la comarca - ECPv6.15.20//NONSGML v1.0//EN
CALSCALE:GREGORIAN
METHOD:PUBLISH
X-ORIGINAL-URL:https://deplanesporlacomarca.com
X-WR-CALDESC:Eventos para De planes por la comarca
REFRESH-INTERVAL;VALUE=DURATION:PT1H
X-Robots-Tag:noindex
X-PUBLISHED-TTL:PT1H
BEGIN:VTIMEZONE
TZID:Europe/Madrid
BEGIN:DAYLIGHT
TZOFFSETFROM:+0100
TZOFFSETTO:+0200
TZNAME:CEST
DTSTART:20230326T010000
END:DAYLIGHT
BEGIN:STANDARD
TZOFFSETFROM:+0200
TZOFFSETTO:+0100
TZNAME:CET
DTSTART:20231029T010000
END:STANDARD
BEGIN:DAYLIGHT
TZOFFSETFROM:+0100
TZOFFSETTO:+0200
TZNAME:CEST
DTSTART:20240331T010000
END:DAYLIGHT
BEGIN:STANDARD
TZOFFSETFROM:+0200
TZOFFSETTO:+0100
TZNAME:CET
DTSTART:20241027T010000
END:STANDARD
BEGIN:DAYLIGHT
TZOFFSETFROM:+0100
TZOFFSETTO:+0200
TZNAME:CEST
DTSTART:20250330T010000
END:DAYLIGHT
BEGIN:STANDARD
TZOFFSETFROM:+0200
TZOFFSETTO:+0100
TZNAME:CET
DTSTART:20251026T010000
END:STANDARD
END:VTIMEZONE
BEGIN:VEVENT
DTSTART;TZID=Europe/Madrid:20240901T060000
DTEND;TZID=Europe/Madrid:20240901T090000
DTSTAMP:20260420T043040
CREATED:20240823T114943Z
LAST-MODIFIED:20240823T114947Z
UID:10036506-1725170400-1725181200@deplanesporlacomarca.com
SUMMARY:NOVENA A NUESTRA SEÑORA DE GUADALUPE 2024 (HONDARRIBIA)
DESCRIPTION:Tradicionales novenas en honor a la Virgen de Guadalupe en Hondarribia\, que anualmente tienen lugar del 31 de agosto al 8 de septiembre a las 6.00 y 8.00 horas de la mañana en el Santuario de Guadalupe.
URL:https://deplanesporlacomarca.com/agenda-evento/novena-a-nuestra-senora-de-guadalupe-2024-hondarribia/2024-09-01/
LOCATION:Santuario de Ntra. Sra. de Guadalupe\, Gornutz\, 26 (Bº Montaña)\, Hondarribia\, Gipuzkoa\, España
ATTACH;FMTTYPE=image/jpeg:https://deplanesporlacomarca.com/wp-content/uploads/2017/08/ermita_guadalupe_hondarribia.jpg
GEO:43.3669802;-1.8210281
X-APPLE-STRUCTURED-LOCATION;VALUE=URI;X-ADDRESS=Santuario de Ntra. Sra. de Guadalupe Gornutz 26 (Bº Montaña) Hondarribia Gipuzkoa España;X-APPLE-RADIUS=500;X-TITLE=Gornutz\, 26 (Bº Montaña):geo:-1.8210281,43.3669802
END:VEVENT
BEGIN:VEVENT
DTSTART;TZID=Europe/Madrid:20240831T060000
DTEND;TZID=Europe/Madrid:20240831T090000
DTSTAMP:20260420T043040
CREATED:20240823T114943Z
LAST-MODIFIED:20240823T114947Z
UID:10036505-1725084000-1725094800@deplanesporlacomarca.com
SUMMARY:NOVENA A NUESTRA SEÑORA DE GUADALUPE 2024 (HONDARRIBIA)
DESCRIPTION:Tradicionales novenas en honor a la Virgen de Guadalupe en Hondarribia\, que anualmente tienen lugar del 31 de agosto al 8 de septiembre a las 6.00 y 8.00 horas de la mañana en el Santuario de Guadalupe.
URL:https://deplanesporlacomarca.com/agenda-evento/novena-a-nuestra-senora-de-guadalupe-2024-hondarribia/2024-08-31/
LOCATION:Santuario de Ntra. Sra. de Guadalupe\, Gornutz\, 26 (Bº Montaña)\, Hondarribia\, Gipuzkoa\, España
ATTACH;FMTTYPE=image/jpeg:https://deplanesporlacomarca.com/wp-content/uploads/2017/08/ermita_guadalupe_hondarribia.jpg
GEO:43.3669802;-1.8210281
X-APPLE-STRUCTURED-LOCATION;VALUE=URI;X-ADDRESS=Santuario de Ntra. Sra. de Guadalupe Gornutz 26 (Bº Montaña) Hondarribia Gipuzkoa España;X-APPLE-RADIUS=500;X-TITLE=Gornutz\, 26 (Bº Montaña):geo:-1.8210281,43.3669802
END:VEVENT
BEGIN:VEVENT
DTSTART;TZID=Europe/Madrid:20240515T110000
DTEND;TZID=Europe/Madrid:20240515T140000
DTSTAMP:20260420T043040
CREATED:20240513T135249Z
LAST-MODIFIED:20240513T135253Z
UID:10035514-1715770800-1715781600@deplanesporlacomarca.com
SUMMARY:FESTIVIDAD DE SAN ISIDRO 2024 (HONDARRIBIA)
DESCRIPTION:Festividad de San Isidro en Hondarribia y desde los departamentos de Agricultura y Cultura del Ayuntamiento Hondarribia han organizado una serie de actos. \n\n\n\n \n\n\n\nDurante toda la mañana habrá feria de alimentación en las inmediaciones del Santuario de Guadalupe. La misa tendrá lugar a las 11.00 horas y a las 11.45 horas\, la procesión y la bendición de los campos con la participación de los bertsolaris Eli Pagola y Agin Laburu.  \n\n\n\n \n\n\n\nA las 13.00 horas\, será el turno del deporte rural\, con aizkolaris y juegos de Iparralde.
URL:https://deplanesporlacomarca.com/agenda-evento/festividad-de-san-isidro-2024-hondarribia/
LOCATION:Santuario de Ntra. Sra. de Guadalupe\, Gornutz\, 26 (Bº Montaña)\, Hondarribia\, Gipuzkoa\, España
ATTACH;FMTTYPE=image/jpeg:https://deplanesporlacomarca.com/wp-content/uploads/2017/08/ermita_guadalupe_hondarribia.jpg
GEO:43.3669802;-1.8210281
X-APPLE-STRUCTURED-LOCATION;VALUE=URI;X-ADDRESS=Santuario de Ntra. Sra. de Guadalupe Gornutz 26 (Bº Montaña) Hondarribia Gipuzkoa España;X-APPLE-RADIUS=500;X-TITLE=Gornutz\, 26 (Bº Montaña):geo:-1.8210281,43.3669802
END:VEVENT
END:VCALENDAR