BEGIN:VCALENDAR
VERSION:2.0
PRODID:-//De planes por la comarca - ECPv6.15.20//NONSGML v1.0//EN
CALSCALE:GREGORIAN
METHOD:PUBLISH
X-ORIGINAL-URL:https://deplanesporlacomarca.com
X-WR-CALDESC:Eventos para De planes por la comarca
REFRESH-INTERVAL;VALUE=DURATION:PT1H
X-Robots-Tag:noindex
X-PUBLISHED-TTL:PT1H
BEGIN:VTIMEZONE
TZID:Europe/Madrid
BEGIN:DAYLIGHT
TZOFFSETFROM:+0100
TZOFFSETTO:+0200
TZNAME:CEST
DTSTART:20250330T010000
END:DAYLIGHT
BEGIN:STANDARD
TZOFFSETFROM:+0200
TZOFFSETTO:+0100
TZNAME:CET
DTSTART:20251026T010000
END:STANDARD
BEGIN:DAYLIGHT
TZOFFSETFROM:+0100
TZOFFSETTO:+0200
TZNAME:CEST
DTSTART:20260329T010000
END:DAYLIGHT
BEGIN:STANDARD
TZOFFSETFROM:+0200
TZOFFSETTO:+0100
TZNAME:CET
DTSTART:20261025T010000
END:STANDARD
BEGIN:DAYLIGHT
TZOFFSETFROM:+0100
TZOFFSETTO:+0200
TZNAME:CEST
DTSTART:20270328T010000
END:DAYLIGHT
BEGIN:STANDARD
TZOFFSETFROM:+0200
TZOFFSETTO:+0100
TZNAME:CET
DTSTART:20271031T010000
END:STANDARD
END:VTIMEZONE
BEGIN:VEVENT
DTSTART;TZID=Europe/Madrid:20260426T140000
DTEND;TZID=Europe/Madrid:20260426T140000
DTSTAMP:20260419T232219
CREATED:20260414T071539Z
LAST-MODIFIED:20260414T071541Z
UID:10042498-1777212000-1777212000@deplanesporlacomarca.com
SUMMARY:BERTSO BAZKARIA - 26 DE ABRIL - OLA SAGARDOTEGIA (IRUN)
DESCRIPTION:A partir de las 14.00 horas en Ola Sagardotegia de Irun\, «Bertso bazkaria«. \n\n\n\n \n\n\n\nMenú de sidrería\, café y copa y los «bertsos» de Lizaso\, Peñagarikano\, Egaña y Mendiluze. \n\n\n\n \n\n\n\nEl plan tiene un precio de 47 Euros y puedes hacer tu reserva en: \n\n\n\n– enlace \n\n\n\n– 943623130
URL:https://deplanesporlacomarca.com/agenda-evento/bertso-bazkaria-26-de-abril-ola-sagardotegia-irun/
LOCATION:Sidreria Ola\, Barrio Meaka\, 102\, Irun\, Gipuzkoa\, España
ATTACH;FMTTYPE=image/jpeg:https://deplanesporlacomarca.com/wp-content/uploads/2026/04/bertso_bazkaria_26_abril_2026_ola_sagardotegia_irun.jpg
GEO:43.3227654;-1.7758111
X-APPLE-STRUCTURED-LOCATION;VALUE=URI;X-ADDRESS=Sidreria Ola Barrio Meaka 102 Irun Gipuzkoa España;X-APPLE-RADIUS=500;X-TITLE=Barrio Meaka\, 102:geo:-1.7758111,43.3227654
END:VEVENT
END:VCALENDAR