BEGIN:VCALENDAR
VERSION:2.0
PRODID:-//De planes por la comarca - ECPv6.15.20//NONSGML v1.0//EN
CALSCALE:GREGORIAN
METHOD:PUBLISH
X-WR-CALNAME:De planes por la comarca
X-ORIGINAL-URL:https://deplanesporlacomarca.com
X-WR-CALDESC:Eventos para De planes por la comarca
REFRESH-INTERVAL;VALUE=DURATION:PT1H
X-Robots-Tag:noindex
X-PUBLISHED-TTL:PT1H
BEGIN:VTIMEZONE
TZID:Europe/Madrid
BEGIN:DAYLIGHT
TZOFFSETFROM:+0100
TZOFFSETTO:+0200
TZNAME:CEST
DTSTART:20230326T010000
END:DAYLIGHT
BEGIN:STANDARD
TZOFFSETFROM:+0200
TZOFFSETTO:+0100
TZNAME:CET
DTSTART:20231029T010000
END:STANDARD
BEGIN:DAYLIGHT
TZOFFSETFROM:+0100
TZOFFSETTO:+0200
TZNAME:CEST
DTSTART:20240331T010000
END:DAYLIGHT
BEGIN:STANDARD
TZOFFSETFROM:+0200
TZOFFSETTO:+0100
TZNAME:CET
DTSTART:20241027T010000
END:STANDARD
BEGIN:DAYLIGHT
TZOFFSETFROM:+0100
TZOFFSETTO:+0200
TZNAME:CEST
DTSTART:20250330T010000
END:DAYLIGHT
BEGIN:STANDARD
TZOFFSETFROM:+0200
TZOFFSETTO:+0100
TZNAME:CET
DTSTART:20251026T010000
END:STANDARD
END:VTIMEZONE
BEGIN:VEVENT
DTSTART;TZID=Europe/Madrid:20240421T110000
DTEND;TZID=Europe/Madrid:20240421T110000
DTSTAMP:20260420T153639
CREATED:20240417T060313Z
LAST-MODIFIED:20240418T095951Z
UID:10035215-1713697200-1713697200@deplanesporlacomarca.com
SUMMARY:TALLER\, "MÚSICA EN FAMILIA" - 21 DE ABRIL 2024 - TAUPA! (IRUN)
DESCRIPTION:¡¡¡ Grupo de las 11.00 horas\, completo !!! ¡¡¡ Se abre nuevo grupo a las 12.00 horas !!! \n\n\n\n \n\n\n\nTaller de música en familia\, con niñ@s de entre 0 y 3 años\, en Taupa! Musikarekin hazten\, a partir de las 11.00 horas. \n\n\n\n \n\n\n\nEl precio de este plan es de 15 Euros (bebé + adulto). Más info en el 637781770.
URL:https://deplanesporlacomarca.com/agenda-evento/taller-musica-en-familia-21-de-abril-2024-taupa-irun/
LOCATION:Taupa\, Vega de Eguzkiza Kalea\, 27\, Irun\, Gipuzkoa\, España
ATTACH;FMTTYPE=image/jpeg:https://deplanesporlacomarca.com/wp-content/uploads/2024/04/taller_musica_en_familia_ninos_21_abril_2024_taupa_irun.jpg
GEO:43.3341243;-1.7884632
X-APPLE-STRUCTURED-LOCATION;VALUE=URI;X-ADDRESS=Taupa Vega de Eguzkiza Kalea 27 Irun Gipuzkoa España;X-APPLE-RADIUS=500;X-TITLE=Vega de Eguzkiza Kalea\, 27:geo:-1.7884632,43.3341243
END:VEVENT
END:VCALENDAR