BEGIN:VCALENDAR
VERSION:2.0
PRODID:-//De planes por la comarca - ECPv6.15.20//NONSGML v1.0//EN
CALSCALE:GREGORIAN
METHOD:PUBLISH
X-WR-CALNAME:De planes por la comarca
X-ORIGINAL-URL:https://deplanesporlacomarca.com
X-WR-CALDESC:Eventos para De planes por la comarca
REFRESH-INTERVAL;VALUE=DURATION:PT1H
X-Robots-Tag:noindex
X-PUBLISHED-TTL:PT1H
BEGIN:VTIMEZONE
TZID:Europe/Madrid
BEGIN:DAYLIGHT
TZOFFSETFROM:+0100
TZOFFSETTO:+0200
TZNAME:CEST
DTSTART:20230326T010000
END:DAYLIGHT
BEGIN:STANDARD
TZOFFSETFROM:+0200
TZOFFSETTO:+0100
TZNAME:CET
DTSTART:20231029T010000
END:STANDARD
BEGIN:DAYLIGHT
TZOFFSETFROM:+0100
TZOFFSETTO:+0200
TZNAME:CEST
DTSTART:20240331T010000
END:DAYLIGHT
BEGIN:STANDARD
TZOFFSETFROM:+0200
TZOFFSETTO:+0100
TZNAME:CET
DTSTART:20241027T010000
END:STANDARD
BEGIN:DAYLIGHT
TZOFFSETFROM:+0100
TZOFFSETTO:+0200
TZNAME:CEST
DTSTART:20250330T010000
END:DAYLIGHT
BEGIN:STANDARD
TZOFFSETFROM:+0200
TZOFFSETTO:+0100
TZNAME:CET
DTSTART:20251026T010000
END:STANDARD
END:VTIMEZONE
BEGIN:VEVENT
DTSTART;TZID=Europe/Madrid:20240510T193000
DTEND;TZID=Europe/Madrid:20240510T193000
DTSTAMP:20260421T140143
CREATED:20240504T084914Z
LAST-MODIFIED:20240504T084918Z
UID:10035402-1715369400-1715369400@deplanesporlacomarca.com
SUMMARY:KONEKTA KAFE TOPAKETAK - BAR THE MUSEUM (IRUN)
DESCRIPTION:Konekta Kafe Topaketa que tiene como objetivo escuchar las opiniones de los jóvenes\, y tiene lugar en el Bar The Museum de Irun\, a partir de las 19.30 horas. \n\n\n\n \n\n\n\nSi tienes entre 16 y 25 años\, acércate a tomar algo\, mientras compartimos nuevas ideas.
URL:https://deplanesporlacomarca.com/agenda-evento/konekta-kafe-topaketak-bar-the-museum-irun/
LOCATION:The Museum Food & Drinks\, Escuelas Kalea\, Irun\, Gipuzkoa\, 20302\, España
ATTACH;FMTTYPE=image/jpeg:https://deplanesporlacomarca.com/wp-content/uploads/2024/05/konekta_kafe_topaketak_10_mayo_2024_gazteartean_bar_the_museum_irun.jpg
GEO:43.3398161;-1.7873699
X-APPLE-STRUCTURED-LOCATION;VALUE=URI;X-ADDRESS=The Museum Food & Drinks Escuelas Kalea Irun Gipuzkoa 20302 España;X-APPLE-RADIUS=500;X-TITLE=Escuelas Kalea:geo:-1.7873699,43.3398161
END:VEVENT
END:VCALENDAR