BEGIN:VCALENDAR
VERSION:2.0
PRODID:-//De planes por la comarca - ECPv6.15.20//NONSGML v1.0//EN
CALSCALE:GREGORIAN
METHOD:PUBLISH
X-WR-CALNAME:De planes por la comarca
X-ORIGINAL-URL:https://deplanesporlacomarca.com
X-WR-CALDESC:Eventos para De planes por la comarca
REFRESH-INTERVAL;VALUE=DURATION:PT1H
X-Robots-Tag:noindex
X-PUBLISHED-TTL:PT1H
BEGIN:VTIMEZONE
TZID:Europe/Madrid
BEGIN:DAYLIGHT
TZOFFSETFROM:+0100
TZOFFSETTO:+0200
TZNAME:CEST
DTSTART:20230326T010000
END:DAYLIGHT
BEGIN:STANDARD
TZOFFSETFROM:+0200
TZOFFSETTO:+0100
TZNAME:CET
DTSTART:20231029T010000
END:STANDARD
BEGIN:DAYLIGHT
TZOFFSETFROM:+0100
TZOFFSETTO:+0200
TZNAME:CEST
DTSTART:20240331T010000
END:DAYLIGHT
BEGIN:STANDARD
TZOFFSETFROM:+0200
TZOFFSETTO:+0100
TZNAME:CET
DTSTART:20241027T010000
END:STANDARD
BEGIN:DAYLIGHT
TZOFFSETFROM:+0100
TZOFFSETTO:+0200
TZNAME:CEST
DTSTART:20250330T010000
END:DAYLIGHT
BEGIN:STANDARD
TZOFFSETFROM:+0200
TZOFFSETTO:+0100
TZNAME:CET
DTSTART:20251026T010000
END:STANDARD
END:VTIMEZONE
BEGIN:VEVENT
DTSTART;TZID=Europe/Madrid:20241020T094500
DTEND;TZID=Europe/Madrid:20241020T130000
DTSTAMP:20260419T201547
CREATED:20240910T154752Z
LAST-MODIFIED:20240910T154757Z
UID:10036647-1729417500-1729429200@deplanesporlacomarca.com
SUMMARY:6ª EDICIÓN\, ENCUENTROS FORMATIVOS "ACOMPAÑAMIENTO CONSCIENTE Y RESPETUOSO A LA INFANCIA" - SIN PEROS - TXISPUM (HONDARRIBIA)
DESCRIPTION:6ª edición de la formación continua «Encuentros Formativos. Acompañamiento consciente y respetuoso a la infancia»\, a cargo de Sin Peros en Txispum Aretoa de Hondarribia\, a partir de las 09.45 horas. \n\n\n\n \n\n\n\nPara gente que necesita un cambio\, herramientas\, acompañamiento\, una mirada diferente hacía la infancia. \n\n\n\n \n\n\n\nSi ese eres tú y necesitas reducir los gritos y amenazas en casa o en el colegio\, dejar la culpa atrás\, recuperar la calma y la conexión\, hablar el mismo idioma que tus niñ@s y pasar a la acción\, ¡Esta es tu oportunidad! \n\n\n\n \n\n\n\nEl plan está dirigido a padres\, madres\, docentes y toda persona que pueda estar interesada. Las plazas son limitadas\, así que si necesitas más información y/o apuntarte\, puedes contactar en: \n\n\n\n– 692689319 \n\n\n\n– msinperos@gmail.com
URL:https://deplanesporlacomarca.com/agenda-evento/6a-edicion-encuentros-formativos-acompanamiento-consciente-y-respetuoso-a-la-infancia-sin-peros-txispum-hondarribia/2024-10-20/
LOCATION:Txispum\, Gabarrari Kalea\, 5\, Hondarribia\, Gipuzkoa\, España
ATTACH;FMTTYPE=image/jpeg:https://deplanesporlacomarca.com/wp-content/uploads/2024/09/encuentos_formativos_educacion_consciente_respetuosa_septiembre_diciembre_2024_sinperos_txispum_hondarribia.jpg
GEO:43.3595794;-1.7908582
X-APPLE-STRUCTURED-LOCATION;VALUE=URI;X-ADDRESS=Txispum Gabarrari Kalea 5 Hondarribia Gipuzkoa España;X-APPLE-RADIUS=500;X-TITLE=Gabarrari Kalea\, 5:geo:-1.7908582,43.3595794
END:VEVENT
BEGIN:VEVENT
DTSTART;TZID=Europe/Madrid:20241005T173000
DTEND;TZID=Europe/Madrid:20241005T220000
DTSTAMP:20260419T201547
CREATED:20240918T131807Z
LAST-MODIFIED:20240918T131810Z
UID:10036749-1728149400-1728165600@deplanesporlacomarca.com
SUMMARY:UDAZKENA FEST 2024 - TXISPUM ARETOA (HONDARRIBIA)
DESCRIPTION:En Txispum Aretoa de Hondarribia han preparado un plan super especial para dar la bienvenida al otoño\, desde las 17.30 horas. \n\n\n\n \n\n\n\nEsto es lo que vais a poder disfrutar: \n\n\n\n– Talleres para niñ@s. \n\n\n\n– DJ. \n\n\n\n– Cantajuegos. \n\n\n\n– Photocall. \n\n\n\n– Pintxos. \n\n\n\n– Merienda para los peques. \n\n\n\n \n\n\n\nLas entradas tienen un precio de 20 Euros por familia y las puedes comprar\, así como pedir más información\, en Txispum. \n\n\n\n \n\n\n\n¡Plazas limitadas!
URL:https://deplanesporlacomarca.com/agenda-evento/udazkena-fest-2024-txispum-aretoa-hondarribia/
LOCATION:Txispum\, Gabarrari Kalea\, 5\, Hondarribia\, Gipuzkoa\, España
ATTACH;FMTTYPE=image/jpeg:https://deplanesporlacomarca.com/wp-content/uploads/2024/09/udazkena_fest_fiesta_otono_2024_5_octubre_txispum_aretoa_hondarribia.jpg
GEO:43.3595794;-1.7908582
X-APPLE-STRUCTURED-LOCATION;VALUE=URI;X-ADDRESS=Txispum Gabarrari Kalea 5 Hondarribia Gipuzkoa España;X-APPLE-RADIUS=500;X-TITLE=Gabarrari Kalea\, 5:geo:-1.7908582,43.3595794
END:VEVENT
BEGIN:VEVENT
DTSTART;TZID=Europe/Madrid:20240929T094500
DTEND;TZID=Europe/Madrid:20240929T130000
DTSTAMP:20260419T201547
CREATED:20240910T154752Z
LAST-MODIFIED:20240910T154757Z
UID:10036646-1727603100-1727614800@deplanesporlacomarca.com
SUMMARY:6ª EDICIÓN\, ENCUENTROS FORMATIVOS "ACOMPAÑAMIENTO CONSCIENTE Y RESPETUOSO A LA INFANCIA" - SIN PEROS - TXISPUM (HONDARRIBIA)
DESCRIPTION:6ª edición de la formación continua «Encuentros Formativos. Acompañamiento consciente y respetuoso a la infancia»\, a cargo de Sin Peros en Txispum Aretoa de Hondarribia\, a partir de las 09.45 horas. \n\n\n\n \n\n\n\nPara gente que necesita un cambio\, herramientas\, acompañamiento\, una mirada diferente hacía la infancia. \n\n\n\n \n\n\n\nSi ese eres tú y necesitas reducir los gritos y amenazas en casa o en el colegio\, dejar la culpa atrás\, recuperar la calma y la conexión\, hablar el mismo idioma que tus niñ@s y pasar a la acción\, ¡Esta es tu oportunidad! \n\n\n\n \n\n\n\nEl plan está dirigido a padres\, madres\, docentes y toda persona que pueda estar interesada. Las plazas son limitadas\, así que si necesitas más información y/o apuntarte\, puedes contactar en: \n\n\n\n– 692689319 \n\n\n\n– msinperos@gmail.com
URL:https://deplanesporlacomarca.com/agenda-evento/6a-edicion-encuentros-formativos-acompanamiento-consciente-y-respetuoso-a-la-infancia-sin-peros-txispum-hondarribia/2024-09-29/
LOCATION:Txispum\, Gabarrari Kalea\, 5\, Hondarribia\, Gipuzkoa\, España
ATTACH;FMTTYPE=image/jpeg:https://deplanesporlacomarca.com/wp-content/uploads/2024/09/encuentos_formativos_educacion_consciente_respetuosa_septiembre_diciembre_2024_sinperos_txispum_hondarribia.jpg
GEO:43.3595794;-1.7908582
X-APPLE-STRUCTURED-LOCATION;VALUE=URI;X-ADDRESS=Txispum Gabarrari Kalea 5 Hondarribia Gipuzkoa España;X-APPLE-RADIUS=500;X-TITLE=Gabarrari Kalea\, 5:geo:-1.7908582,43.3595794
END:VEVENT
BEGIN:VEVENT
DTSTART;TZID=Europe/Madrid:20240614T203000
DTEND;TZID=Europe/Madrid:20240615T110000
DTSTAMP:20260419T201547
CREATED:20240524T162620Z
LAST-MODIFIED:20240524T162646Z
UID:10035644-1718397000-1718449200@deplanesporlacomarca.com
SUMMARY:PIJAMA PARTY - 14 DE JUNIO - TXISPUM ARETOA (HONDARRIBIA)
DESCRIPTION:¡¡¡ Pijama Party en Txispum Aretoa de Hondarribia !!! \n\n\n\n \n\n\n\nEn Txispum organizan una nueva edición de la fiesta de pijamas que tanto éxito tiene. En esta ocasión\, l@s participantes se convertirán en piratas. \n\n\n\n \n\n\n\nEl plan comienza a las 20.30 horas. Después de realizar diferentes actividades\, cenarán en Txispum y continuarán con las aventuras que tienen preparadas. Después se visionará una película para calmar los ánimos y dormir. Por la mañana\, después de desayunar terminarán con las actividades organizadas al aire libre en caso de que el clima acompañe. Finalmente\, la recogida será a las 11.00 de la mañana del día 15 de junio.  \n\n\n\n \n\n\n\nPara poder participar en esta actividad tendrán que traer saco de dormir\, pijama\, cojín o almohada\, y un neceser con todo lo necesario. La misma semana de la actividad enviaremos un mensaje por si hubiera que añadir algo especial para las actividades programadas. \n\n\n\n \n\n\n\nSi quieres apuntar a tu peque\, ponte en contacto en: \n\n\n\n– 943646400 // 621216034 \n\n\n\n– info@txispumaretoa.com \n\n\n\n– enlace
URL:https://deplanesporlacomarca.com/agenda-evento/pijama-party-24-de-febrero-txispum-aretoa-hondarribia-2/
LOCATION:Txispum\, Gabarrari Kalea\, 5\, Hondarribia\, Gipuzkoa\, España
ATTACH;FMTTYPE=image/jpeg:https://deplanesporlacomarca.com/wp-content/uploads/2024/05/pijama_party_junio_2024_txispum_aretoa_hondarribia.jpg
GEO:43.3595794;-1.7908582
X-APPLE-STRUCTURED-LOCATION;VALUE=URI;X-ADDRESS=Txispum Gabarrari Kalea 5 Hondarribia Gipuzkoa España;X-APPLE-RADIUS=500;X-TITLE=Gabarrari Kalea\, 5:geo:-1.7908582,43.3595794
END:VEVENT
BEGIN:VEVENT
DTSTART;TZID=Europe/Madrid:20240612T160000
DTEND;TZID=Europe/Madrid:20240612T200000
DTSTAMP:20260419T201547
CREATED:20240604T141820Z
LAST-MODIFIED:20240604T141824Z
UID:10035829-1718208000-1718222400@deplanesporlacomarca.com
SUMMARY:JORNADA DE PUERTAS ABIERTAS EN TXISPUM ARETOA (HONDARRIBIA)
DESCRIPTION:Jornada de puertas abiertas en Txispum Aretoa de Hondarribia\, al igual que en sus dos otros espacios\, Artean Espazioa y Yogagâra\, con el objetivo de darlos a conocer. \n\n\n\n \n\n\n\nEl plan se desarrolla a partir de las 16.30 horas y es gratuito.
URL:https://deplanesporlacomarca.com/agenda-evento/jornada-de-puertas-abiertas-en-txispum-aretoa-hondarribia/
LOCATION:Txispum\, Gabarrari Kalea\, 5\, Hondarribia\, Gipuzkoa\, España
ATTACH;FMTTYPE=image/jpeg:https://deplanesporlacomarca.com/wp-content/uploads/2020/09/de-planes-por-la-comarca-clases-ingles-dinamico-ninos-ninas-txispum-aretoa-hondarribia-gipuzkoa-bidasoa-txingudi-ocio-132.jpg
GEO:43.3595794;-1.7908582
X-APPLE-STRUCTURED-LOCATION;VALUE=URI;X-ADDRESS=Txispum Gabarrari Kalea 5 Hondarribia Gipuzkoa España;X-APPLE-RADIUS=500;X-TITLE=Gabarrari Kalea\, 5:geo:-1.7908582,43.3595794
END:VEVENT
BEGIN:VEVENT
DTSTART;TZID=Europe/Madrid:20240512T094500
DTEND;TZID=Europe/Madrid:20240512T130000
DTSTAMP:20260419T201547
CREATED:20240216T162300Z
LAST-MODIFIED:20240216T162303Z
UID:10034725-1715507100-1715518800@deplanesporlacomarca.com
SUMMARY:5ª EDICIÓN\, ENCUENTROS FORMATIVOS "ACOMPAÑAMIENTO CONSCIENTE Y RESPETUOSO A LA INFANCIA" - SIN PEROS - TXISPUM (HONDARRIBIA)
DESCRIPTION:5ª edición de la formación continua «Encuentros Formativos. Acompañamiento consciente y respetuoso a la infancia»\, a cargo de Sin Peros en Txispum Aretoa de Hondarribia\, a partir de las 09.45 horas. \n\n\n\n \n\n\n\n\n\n\n\n﻿ \n\n\n\nPara gente que necesita un cambio\, herramientas\, acompañamiento\, una mirada diferente hacía la infancia. \n\n\n\n﻿ \n\n\n\nSi ese eres tú y necesitas reducir los gritos y amenazas en casa o en el colegio\, dejar la culpa atrás\, recuperar la calma y la conexión\, hablar el mismo idioma que tus niñ@s y pasar a la acción\, ¡Esta es tu oportunidad! \n\n\n\n﻿ \n\n\n\nEl plan está dirigido a padres\, madres\, docentes y toda persona que pueda estar interesada. Las plazas son limitadas\, así que si necesitas más información y/o apuntarte\, puedes contactar en: \n\n\n\n– 692689319 \n\n\n\n– msinperos@gmail.com
URL:https://deplanesporlacomarca.com/agenda-evento/5a-edicion-encuentros-formativos-acompanamiento-consciente-y-respetuoso-a-la-infancia-sin-peros-txispum-hondarribia/2024-05-12/
LOCATION:Txispum\, Gabarrari Kalea\, 5\, Hondarribia\, Gipuzkoa\, España
ATTACH;FMTTYPE=image/jpeg:https://deplanesporlacomarca.com/wp-content/uploads/2024/02/5_edicion_encuentros_formativos_educacion_consciente_respetuosa_sinperos_txispum_hondarribia.jpg
GEO:43.3595794;-1.7908582
X-APPLE-STRUCTURED-LOCATION;VALUE=URI;X-ADDRESS=Txispum Gabarrari Kalea 5 Hondarribia Gipuzkoa España;X-APPLE-RADIUS=500;X-TITLE=Gabarrari Kalea\, 5:geo:-1.7908582,43.3595794
END:VEVENT
BEGIN:VEVENT
DTSTART;TZID=Europe/Madrid:20240420T173000
DTEND;TZID=Europe/Madrid:20240420T220000
DTSTAMP:20260419T201547
CREATED:20240405T165612Z
LAST-MODIFIED:20240405T165616Z
UID:10035198-1713634200-1713650400@deplanesporlacomarca.com
SUMMARY:UDABERRI FEST 2024 - TXISPUM ARETOA (HONDARRIBIA)
DESCRIPTION:En Txispum Aretoa de Hondarribia han preparado un plan super especial para dar la bienvenida a la primavera\, desde las 17.30 horas. \n\n\n\n \n\n\n\nVais a poder disfrutar de: Talleres infantiles\, DJ\, cantajuegos\, photocall\, pintxos\, merienda para l@s peques y mucho más. \n\n\n\n \n\n\n\nEl precio de las entradas es de 20 Euros por familia y las puedes comprar\, así como pedir más información\, en Txispum. \n\n\n\n \n\n\n\n¡Plazas limitadas!
URL:https://deplanesporlacomarca.com/agenda-evento/udaberri-fest-2024-txispum-aretoa-hondarribia/
LOCATION:Txispum\, Gabarrari Kalea\, 5\, Hondarribia\, Gipuzkoa\, España
ATTACH;FMTTYPE=image/jpeg:https://deplanesporlacomarca.com/wp-content/uploads/2024/04/udaberri_fest_fiesta_primavera_2024_20_abril_txispum_aretoa_hondarribia.jpg
GEO:43.3595794;-1.7908582
X-APPLE-STRUCTURED-LOCATION;VALUE=URI;X-ADDRESS=Txispum Gabarrari Kalea 5 Hondarribia Gipuzkoa España;X-APPLE-RADIUS=500;X-TITLE=Gabarrari Kalea\, 5:geo:-1.7908582,43.3595794
END:VEVENT
END:VCALENDAR